BEGIN:VCALENDAR
VERSION:2.0
PRODID:-//wp-events-plugin.com//7.2.3.1//EN
BEGIN:VEVENT
UID:189@siliconvalleyons.org
DTSTART:20201110T114500Z
DTEND:20201110T134500Z
DTSTAMP:20201104T023758Z
URL:https://www.siliconvalleyons.org/events/zoom-webinar-clinical-evidence
 -supporting-the-role-of-doptelet/
SUMMARY:Zoom Webinar - Clinical Evidence Supporting the Role of DOPTELET®
DESCRIPTION:On behalf of Dova\, Mamie Chun (626-399-6605\,mchun@dova.com)\,
  cordially invites you to attend:\nClinical Evidence Supporting the Role o
 f DOPTELET®\n(avatrombopag) for Adult Patients with Chronic Immune\nThrom
 bocytopenia (ITP) Who Have Had an Insufficient\nResponse to a Previous Tre
 atment\n&nbsp\;\nRSVP by 11/7/20:  info@dovaspeakersbureau.com\n&nbsp\;\n
 Click Here for Registration \n\nRegistration: 11:45 AM PST\nProgram begin
 s: 12:15 PM PST\n&nbsp\;
END:VEVENT
END:VCALENDAR