BEGIN:VCALENDAR
VERSION:2.0
PRODID:-//wp-events-plugin.com//7.2.3.1//EN
BEGIN:VEVENT
UID:194@siliconvalleyons.org
DTSTART:20210203T180000Z
DTEND:20210203T190000Z
DTSTAMP:20210125T200621Z
URL:https://www.siliconvalleyons.org/events/xpovio-online-discussion/
SUMMARY:XPOVIO Online Discussion
DESCRIPTION:Interactive clinical discussion:\nXPOVIO® (selinexor)\, Now ap
 proved as early as 1st relapse in multiple myeloma.\nBy: Joseph Mikhael\, 
 MD - Translational Genomics Research Institute\n&nbsp\;\nVirtual Program\
 nhttps://tallen-inc.zoom.us/j/93984020923?pwd=QVdmWElmcDlEa0ZQUlAxVCtBa2Jo
 dz09\n&nbsp\;\nRSVP:\n866-914-9069\nKaryopharmRSVP@pw.veeva.com\nKAR000118
 7  - Please reference this number during registration\n&nbsp\;\n\n&nbsp\;
 \n\n&nbsp\;\n\n&nbsp\;
END:VEVENT
END:VCALENDAR