BEGIN:VCALENDAR
VERSION:2.0
PRODID:-//wp-events-plugin.com//7.2.3.1//EN
BEGIN:VEVENT
UID:130@siliconvalleyons.org
DTSTART:20190828T023000Z
DTEND:20190828T043000Z
DTSTAMP:20190820T172716Z
URL:https://www.siliconvalleyons.org/events/xospata-presentation/
SUMMARY:XOSPATA Presentation
DESCRIPTION:XOSPATA® (gilteritinib):  A Targeted Therapeutic Approach for
  Relapsed or Refractory FLT3m+ AML Patients\n\nPRESENTER\nHAIFAA ABDULHAQ\
 n&nbsp\;\nRSVP by 8/20/19 to Melba Vasquez\n(925) 520-5947\nmelba.vasquez@
 astellas.com\n&nbsp\;
LOCATION:McCormick and Kuleto's Seafood Restaurant\, 900 North Point Street
  Suite H301 Ghirardelli Square\, San Francisco\, CA\, 94109\, United State
 s
GEO:37.8056561;-122.42249129999999
X-APPLE-STRUCTURED-LOCATION;VALUE=URI;X-ADDRESS=900 North Point Street Suit
 e H301 Ghirardelli Square\, San Francisco\, CA\, 94109\, United States;X-A
 PPLE-RADIUS=100;X-TITLE=McCormick and Kuleto's Seafood Restaurant:geo:37.8
 056561,-122.42249129999999
END:VEVENT
END:VCALENDAR