BEGIN:VCALENDAR
VERSION:2.0
PRODID:-//wp-events-plugin.com//7.2.3.1//EN
BEGIN:VEVENT
UID:241@siliconvalleyons.org
DTSTART:20211026T183000Z
DTEND:20211026T200000Z
DTSTAMP:20211013T182928Z
URL:https://www.siliconvalleyons.org/events/update-on-the-treatment-of-pat
 ients-with-multiple-myeloma/
SUMMARY:Update on the Treatment of Patients with Multiple Myeloma
DESCRIPTION:Update on the Treatment of Patients with Multiple Myeloma\nPres
 ented by:\nRhonda Hewitt\, MSN Nurse Practitioner\nStanford Healthcare\, P
 alo Alto\, CA\n&nbsp\;\nPlease register with MedForce online at http://www
 .medforcereg.net/SOMP/166300\nor with your Janssen Sales Representative\, 
 Kelly Scherf at (831) 818-0872 by Tuesday\, October 19\, 2021
LOCATION:Flemings Steak House\, 180 El Camino Real\, Palo Alto\, CA\, 94304
 \, United States
GEO:37.4442875;-122.1710802
X-APPLE-STRUCTURED-LOCATION;VALUE=URI;X-ADDRESS=180 El Camino Real\, Palo A
 lto\, CA\, 94304\, United States;X-APPLE-RADIUS=100;X-TITLE=Flemings Steak
  House:geo:37.4442875,-122.1710802
END:VEVENT
END:VCALENDAR