BEGIN:VCALENDAR
VERSION:2.0
PRODID:-//wp-events-plugin.com//7.2.3.1//EN
BEGIN:VEVENT
UID:279@siliconvalleyons.org
DTSTART;TZID=America/Los_Angeles:20230418T180000
DTEND;TZID=America/Los_Angeles:20230418T200000
DTSTAMP:20230323T234153Z
URL:https://www.siliconvalleyons.org/events/trodelvy-in-pretreated-mtnbc-a
 nd-hr-her2-mbc/
SUMMARY:TRODELVY in pretreated mTNBC and HR+/ HER2-mBC
DESCRIPTION:&nbsp\;\n\nThis will be a promotional speaker program for nurse
 s and advanced practitioners\, with a focus on practical considerations in
  management of certain patients with pretreated mTNBC and HR+/HER2 metasta
 tic breast cancer receiving TRODELVY.\n\n&nbsp\;\n\nClick to Download Info
 rmation
LOCATION:LB Steak\, 334 Santana Row Suite 1000\, San Jose\, CA\, United Sta
 tes
GEO:37.321848;-121.947451
X-APPLE-STRUCTURED-LOCATION;VALUE=URI;X-ADDRESS=334 Santana Row Suite 1000\
 , San Jose\, CA\, United States;X-APPLE-RADIUS=100;X-TITLE=LB Steak:geo:37
 .321848,-121.947451
END:VEVENT
BEGIN:VTIMEZONE
TZID:America/Los_Angeles
X-LIC-LOCATION:America/Los_Angeles
BEGIN:DAYLIGHT
DTSTART:20230312T030000
TZOFFSETFROM:-0800
TZOFFSETTO:-0700
TZNAME:PDT
END:DAYLIGHT
END:VTIMEZONE
END:VCALENDAR