BEGIN:VCALENDAR
VERSION:2.0
PRODID:-//wp-events-plugin.com//7.2.3.1//EN
BEGIN:VEVENT
UID:342@siliconvalleyons.org
DTSTART:20250306T020000Z
DTEND:20250306T020000Z
DTSTAMP:20250219T185522Z
URL:https://www.siliconvalleyons.org/events/trodelvy-in-pretreated-hr-her2
 -mbc-and-mtnbc/
SUMMARY:TRODELVY in Pretreated HR+/HER2- mBC and mTNBC
DESCRIPTION:Join your colleagues for an educational program!\n\nThe present
 er will discuss key information for TRODELVY in HR+/HER2-negative mBC and 
 mTNBC\, including clinical trial data\, safety\, dosing\, and more.\n\nWhe
 n: Wednesday\, March 5th at 6:00 PM\n\nPresented by: Fengting Yan\, MD\, M
 edical Oncologist\, True Family Women's Cancer Center Swedish Cancer Insti
 tute\n\nWhere: Le Papillon\, 410 Saratoga Ave\, San Jose\, CA 95129\n\nRSV
 P: Please RSVP via email or phone by 3/2/2025.\nTim Cochrane - tim.cochran
 e@gilead.com\, 408-487-9857\nEric Miller - eric.miller3@gilead.com\, 925-4
 87-9857\nPeter Comeau - peter.comeau@gilead.com\, 925-785-7043\n\nClick he
 re to view the full event flyer!
LOCATION:Le Papillon\, 410 Saratoga Ave\, San Jose\, CA\, 95129\, United St
 ates
GEO:37.319776;-121.97244
X-APPLE-STRUCTURED-LOCATION;VALUE=URI;X-ADDRESS=410 Saratoga Ave\, San Jose
 \, CA\, 95129\, United States;X-APPLE-RADIUS=100;X-TITLE=Le Papillon:geo:3
 7.319776,-121.97244
END:VEVENT
END:VCALENDAR