BEGIN:VCALENDAR
VERSION:2.0
PRODID:-//wp-events-plugin.com//7.2.3.1//EN
BEGIN:VEVENT
UID:113@siliconvalleyons.org
DTSTART:20190508T020000Z
DTEND:20190508T040000Z
DTSTAMP:20190506T031819Z
URL:https://www.siliconvalleyons.org/events/tecentriq/
SUMMARY:Tecentriq
DESCRIPTION:Tecentriq the First Approved Immunotherapy for PDL-1+ mTNBC\n&n
 bsp\;\nFeatured Faculty\nJulie Luckart\, DNP\, AOCNP\, FNP\, APRN-BC\nNurs
 e Practitioner\nUtah Cancer Specialists\nSalt Lake City\, UT
LOCATION:MacArthur Park Restaurant\, 27 University Avenue\, Palo Alto\, CA\
 , 94301\, United States
GEO:37.4430274;-122.16563539999999
X-APPLE-STRUCTURED-LOCATION;VALUE=URI;X-ADDRESS=27 University Avenue\, Palo
  Alto\, CA\, 94301\, United States;X-APPLE-RADIUS=100;X-TITLE=MacArthur Pa
 rk Restaurant:geo:37.4430274,-122.16563539999999
END:VEVENT
END:VCALENDAR