BEGIN:VCALENDAR
VERSION:2.0
PRODID:-//wp-events-plugin.com//7.2.3.1//EN
BEGIN:VEVENT
UID:262@siliconvalleyons.org
DTSTART:20220506T174500Z
DTEND:20220506T193000Z
DTSTAMP:20220502T180734Z
URL:https://www.siliconvalleyons.org/events/tecentriq-presentation/
SUMMARY:TECENTRIQ Presentation
DESCRIPTION:TECENTRIQ:  First FDA-Approved Adjuvant Cancer Immunotherapy f
 or Stage II to III APD-L1+NSCLC\nFEATURED FACULTY\nEric Nadler\, MD\nBaylo
 r University Medical Center\nDallas\, TX\nRSVP:\nAngie Horn Redmann at (65
 0) 580-8821\nhorn.angela@gene.com or at genentechrsvp.com
LOCATION:Fleming's Prime Steakhouse and Wine Bar\, 180 El Camino Real\, Pal
 o Alto\, CA\, 94304\, United States
GEO:37.4442891;-122.17107920000001
X-APPLE-STRUCTURED-LOCATION;VALUE=URI;X-ADDRESS=180 El Camino Real\, Palo A
 lto\, CA\, 94304\, United States;X-APPLE-RADIUS=100;X-TITLE=Fleming's Prim
 e Steakhouse and Wine Bar:geo:37.4442891,-122.17107920000001
END:VEVENT
END:VCALENDAR