BEGIN:VCALENDAR
VERSION:2.0
PRODID:-//wp-events-plugin.com//7.2.3.1//EN
BEGIN:VEVENT
UID:114@siliconvalleyons.org
DTSTART:20190509T020000Z
DTEND:20190509T040000Z
DTSTAMP:20190506T032152Z
URL:https://www.siliconvalleyons.org/events/tecentriq-2/
SUMMARY:Tecentriq
DESCRIPTION:Tecentriq the First Approved Immunotherapy for PDL-1+ mTNBC\n&n
 bsp\;\nFeatured Faculty\nDebbie Tuttle\, DNP\, FNP-BC\, AOCNS\, CBCN\nOnco
 logy Nurse Practitioner\nStanford Cancer Center\nPalo Alto\, CA
LOCATION:LB Steak\, 334 Santana Row Suite 1000\, San Jose\, CA\, United Sta
 tes
GEO:37.321848;-121.947451
X-APPLE-STRUCTURED-LOCATION;VALUE=URI;X-ADDRESS=334 Santana Row Suite 1000\
 , San Jose\, CA\, United States;X-APPLE-RADIUS=100;X-TITLE=LB Steak:geo:37
 .321848,-121.947451
END:VEVENT
END:VCALENDAR