BEGIN:VCALENDAR
VERSION:2.0
PRODID:-//wp-events-plugin.com//7.2.3.1//EN
BEGIN:VEVENT
UID:193@siliconvalleyons.org
DTSTART:20210210T180000Z
DTEND:20210210T200000Z
DTSTAMP:20210119T205810Z
URL:https://www.siliconvalleyons.org/events/svons-february-educational-pro
 gram/
SUMMARY:SVONS February Educational Program
DESCRIPTION:Virtual SVONS February Dinner Program\nRegistration:  https:/
 /www.brownpapertickets.com/event/5032174\nTopic:\n\n 	Care Considerations 
 for Patients with Cancer Treatment Related Diarrhea\n\nObjectives\n\n 	Des
 cribe the biology and some potential consequences of cancer-treatment rela
 ted diarrhea\n 	Identify possible risk factors that may contribute to canc
 er treatment related diarrhea\n 	Discuss the symptoms of treatment-related
  diarrhea and the tools used to assess the severity of diarrhea\n 	 Recog
 nize factors that are important for patient care\, such as diet\, patient 
 education and skin care\n\n\nSpeaker:\nRenita Vance\, MSN\, RN\nNurse Educ
 ation Lead- Genentech\n\n1 CE will be provided\n&nbsp\;\n\n&nbsp\;
END:VEVENT
END:VCALENDAR