BEGIN:VCALENDAR
VERSION:2.0
PRODID:-//wp-events-plugin.com//7.2.3.1//EN
BEGIN:VEVENT
UID:187@siliconvalleyons.org
DTSTART:20201028T180000Z
DTEND:20201028T200000Z
DTSTAMP:20201021T204923Z
URL:https://www.siliconvalleyons.org/events/stivarga-presentation/
SUMMARY:STIVARGA Presentation
DESCRIPTION:STIVARGA - A promotional non-CME presentation \nTherapy for Pa
 tients with Previously Treated Metastatic Colorectal Cancer (mCRC): Your P
 atient's Journey\nPresenter:  Timothy Freitas\n&nbsp\;\n\nIf you would l
 ike to attend\, please RSVP at https://tallenevents.webex.com/tallenevents
 /onstage/g.php?MTID=ede51b3366c4a444c1f359a28e2895136\nor\n\nContact the B
 ayer Speaker Bureau Registration Team at 866-914-9071 or\nRSVPBayersb@conn
 ectPW.com
END:VEVENT
END:VCALENDAR