BEGIN:VCALENDAR
VERSION:2.0
PRODID:-//wp-events-plugin.com//7.2.3.1//EN
BEGIN:VEVENT
UID:129@siliconvalleyons.org
DTSTART:20190828T023000Z
DTEND:20190828T050000Z
DTSTAMP:20190816T004946Z
URL:https://www.siliconvalleyons.org/events/specialty-oncology-therapy-rev
 iew-oral-hemoatology-oncology-agents/
SUMMARY:Specialty Oncology Therapy Review: Oral Hemoatology-Oncology Agents
DESCRIPTION:Presented by:\n\nNick VanGroningen\, PharmD\nBriovaRx Specialty
  Pharmacy\n\nSponsored by BriovaRx Specialty Pharmacy\n\nHariet Bet-Varda\
 n\nSeating is limited. Please RSVP by Thursday\, August 22nd\n\nView the i
 nvitation:  Aug 27th CE Program Invitation_Oral Hematology Oncology 1.2 C
 redits
LOCATION:DioDeka\, 210 E. Main St.\, Los Gatos\, CA\, 95030\, United States
GEO:37.2208666;-121.97721480000001
X-APPLE-STRUCTURED-LOCATION;VALUE=URI;X-ADDRESS=210 E. Main St.\, Los Gatos
 \, CA\, 95030\, United States;X-APPLE-RADIUS=100;X-TITLE=DioDeka:geo:37.22
 08666,-121.97721480000001
END:VEVENT
END:VCALENDAR