BEGIN:VCALENDAR
VERSION:2.0
PRODID:-//wp-events-plugin.com//7.2.3.1//EN
BEGIN:VEVENT
UID:211@siliconvalleyons.org
DTSTART:20210506T150000Z
DTEND:20210506T203000Z
DTSTAMP:20210412T183755Z
URL:https://www.siliconvalleyons.org/events/sitc-advances-in-cancer-immuno
 therapytm/
SUMMARY:SITC Advances in Cancer ImmunotherapyTM
DESCRIPTION:SITC Advances in Cancer ImmunotherapyTM (ACI) Live Virtual Prog
 ram\n\nOrganizers:\n\n 	Edward B. Garon\, MD – University of California 
 Los Angeles\n 	Blanca A. Ledezma\, NP – Ronald Reagan UCLA Medical Cente
 r\n 	Kim Margolin\, MD – City of Hope\n\nStay Current with FDA-approved 
 Immunotherapy Treatments!\n\n 	FREE for healthcare professionals in the cl
 inical setting\, students\, patients\nand patient advocates\n 	CME-\, CNE-
 \, CPE-\, MOC-certified\n\nAttendees will connect with regional immunother
 apy experts during these virtual live programs\, in subsequent quarterly w
 ebinars and through a dedicated SITC CONNECT online community\n\nLearn mor
 e at:\n sitcancer.org/aci/2020-21/losangeles
END:VEVENT
END:VCALENDAR