BEGIN:VCALENDAR
VERSION:2.0
PRODID:-//wp-events-plugin.com//7.2.3.1//EN
BEGIN:VEVENT
UID:140@siliconvalleyons.org
DTSTART:20191008T020000Z
DTEND:20191008T023000Z
DTSTAMP:20191001T225056Z
URL:https://www.siliconvalleyons.org/events/resectability-in-stageiii-nscl
 c/
SUMMARY:Resectability in Stage III NSCLC
DESCRIPTION:Resectability in Stage III NSCLC:\nCase-Based considerations fo
 r clinical decision-making\n\nSpeaker:\nERIC VALLIERES\, MD\nSwedish Cance
 r Institute at Swedish Medical Center Seattle\, WA\nSurgical Director\, Lu
 ng Cancer Program
LOCATION:Forbes Mill Steakhouse\, 206 North Santa Cruz Avenue\, Los Gatos\,
  CA\, 95030\, United States
GEO:37.22604949999999;-121.98174640000002
X-APPLE-STRUCTURED-LOCATION;VALUE=URI;X-ADDRESS=206 North Santa Cruz Avenue
 \, Los Gatos\, CA\, 95030\, United States;X-APPLE-RADIUS=100;X-TITLE=Forbe
 s Mill Steakhouse:geo:37.22604949999999,-121.98174640000002
END:VEVENT
END:VCALENDAR