BEGIN:VCALENDAR
VERSION:2.0
PRODID:-//wp-events-plugin.com//7.2.3.1//EN
BEGIN:VEVENT
UID:333@siliconvalleyons.org
DTSTART:20241108T020000Z
DTEND:20241108T043000Z
DTSTAMP:20241123T011957Z
URL:https://www.siliconvalleyons.org/events/presentation-on-zejula-and-jem
 perli/
SUMMARY:Presentation on Zejula and Jemperli
DESCRIPTION:You are invited to a presentation on Zejula and Jemperli\n\nPre
 sented by John Chan\, MD\n\nRSVP by November 2\n\nTo register for this pro
 gram\, scan the QR code or visit the following link: https://myattendeeres
 ource.com/gsk/241107-gsk-100622\n\nAttendees may opt out of the meal by in
 dicating so in their RSVP.\n\nProgram Code:  241107-zej-100622\n\nDownloa
 d the flier here\n\n\n\n&nbsp\;
LOCATION:Flemings Steak House\, 180 El Camino Real\, Palo Alto\, CA\, 94304
 \, United States
GEO:37.4442875;-122.1710802
X-APPLE-STRUCTURED-LOCATION;VALUE=URI;X-ADDRESS=180 El Camino Real\, Palo A
 lto\, CA\, 94304\, United States;X-APPLE-RADIUS=100;X-TITLE=Flemings Steak
  House:geo:37.4442875,-122.1710802
END:VEVENT
END:VCALENDAR