BEGIN:VCALENDAR
VERSION:2.0
PRODID:-//wp-events-plugin.com//7.2.3.1//EN
BEGIN:VEVENT
UID:64@siliconvalleyons.org
DTSTART:20180131T023000Z
DTEND:20180131T043000Z
DTSTAMP:20180110T193512Z
URL:https://www.siliconvalleyons.org/events/polycythemia-vera-implications
 -uncontrolled-disease/
SUMMARY:Polycythemia Vera and the Implications of Uncontrolled Disease
DESCRIPTION:Featured Speaker:\nLenn Fechter\, RN \nStanford Cancer Center\n
 Stanford\, CA\nRegister by Tuesday\, January 23\, 2018\nOnline http://bit.
 ly/inc4591  
LOCATION:LB Steak\, 334 Santana Row Suite 1000\, San Jose\, CA\, United Sta
 tes
GEO:37.321848;-121.947451
X-APPLE-STRUCTURED-LOCATION;VALUE=URI;X-ADDRESS=334 Santana Row Suite 1000\
 , San Jose\, CA\, United States;X-APPLE-RADIUS=100;X-TITLE=LB Steak:geo:37
 .321848,-121.947451
END:VEVENT
END:VCALENDAR