BEGIN:VCALENDAR
VERSION:2.0
PRODID:-//wp-events-plugin.com//7.2.3.1//EN
BEGIN:VEVENT
UID:286@siliconvalleyons.org
DTSTART;VALUE=DATE:20231024
DTEND;VALUE=DATE:20231025
DTSTAMP:20231002T213857Z
URL:https://www.siliconvalleyons.org/events/polycythemia-vera-dinner-prese
 ntation-october-24/
SUMMARY:Polycythemia Vera Dinner Presentation - October 24
DESCRIPTION:Pharma Essentia is sponsoring a Polycythemia Vera dinner presen
 tation\n\nWhen: October 24th\, 2023\n\nWhere: San Francisco\, CA at Palio'
 s restaurant\n\nSpeaker: Dr. Henna Malik M.D. from Texas Oncology in Houst
 on\, TX
END:VEVENT
END:VCALENDAR