BEGIN:VCALENDAR
VERSION:2.0
PRODID:-//wp-events-plugin.com//7.2.3.1//EN
BEGIN:VEVENT
UID:31@siliconvalleyons.org
DTSTART:20170615T023000Z
DTEND:20170615T043000Z
DTSTAMP:20170607T192307Z
URL:https://www.siliconvalleyons.org/events/overview-of-kyprolis-3/
SUMMARY:Overview of KYPROLIS®
DESCRIPTION:You are cordially invited to:\nOverview of KYPROLIS® (carfilzo
 mib) for Injection: Combination Therapies\nGuest speaker:  Rhonda Hewitt\
 , NP
LOCATION:The Plumed Horse\, 14555 Big Basin Way\, Saratoga\, CA\, 95070\, U
 nited States
GEO:37.2566367;-122.03523840000003
X-APPLE-STRUCTURED-LOCATION;VALUE=URI;X-ADDRESS=14555 Big Basin Way\, Sarat
 oga\, CA\, 95070\, United States;X-APPLE-RADIUS=100;X-TITLE=The Plumed Hor
 se:geo:37.2566367,-122.03523840000003
END:VEVENT
END:VCALENDAR