BEGIN:VCALENDAR
VERSION:2.0
PRODID:-//wp-events-plugin.com//7.2.3.1//EN
BEGIN:VEVENT
UID:25@siliconvalleyons.org
DTSTART:20170505T023000Z
DTEND:20170505T043000Z
DTSTAMP:20170501T233143Z
URL:https://www.siliconvalleyons.org/events/overview-of-kyprolis-2/
SUMMARY:Overview of KYPROLIS
DESCRIPTION:Overview of KYPROLIS for carfilzomib) for Injection: Combinat
 ion Therapies\n\nSee event details here.
LOCATION:Left Bank\, 377 Santana Row\, Suite 1100\, San Jose\, California\,
  95128\, United States
GEO:37.3199011;-121.94833890000001
X-APPLE-STRUCTURED-LOCATION;VALUE=URI;X-ADDRESS=377 Santana Row\, Suite 110
 0\, San Jose\, California\, 95128\, United States;X-APPLE-RADIUS=100;X-TIT
 LE=Left Bank:geo:37.3199011,-121.94833890000001
END:VEVENT
END:VCALENDAR