BEGIN:VCALENDAR
VERSION:2.0
PRODID:-//wp-events-plugin.com//7.2.3.1//EN
BEGIN:VEVENT
UID:27@siliconvalleyons.org
DTSTART:20170601T023000Z
DTEND:20170601T043000Z
DTSTAMP:20170622T103909Z
URL:https://www.siliconvalleyons.org/events/oral-treatment-patients-multip
 le-myeloma/
SUMMARY:An Oral Treatment for Patients with Multiple Myeloma
DESCRIPTION:Presented by:\nRhonda Hewitt\, MN\, RN\, ANP-BC\, AOCNP\nNurse 
 Practitioner\nStanford\nWednesday\, May 31\, 2017\n6:30 PM\nFogo de Chao\n
 377 Santana Row\, #1090\, San Jose\, CA 95128\n(408) 244-7001\n\nHosted by
  Takeda:\nHank Schwarz\, Senior Oncology Specialist and Leslie Williams\,
  Health Systems Manager\n\n
LOCATION:Fogo de Chao\, 377 Santana Row\, #1090\, San Jose\, CA\, 95128\, U
 nited States
GEO:37.3199011;-121.94833890000001
X-APPLE-STRUCTURED-LOCATION;VALUE=URI;X-ADDRESS=377 Santana Row\, #1090\, S
 an Jose\, CA\, 95128\, United States;X-APPLE-RADIUS=100;X-TITLE=Fogo de Ch
 ao:geo:37.3199011,-121.94833890000001
END:VEVENT
END:VCALENDAR