BEGIN:VCALENDAR
VERSION:2.0
PRODID:-//wp-events-plugin.com//7.2.3.1//EN
BEGIN:VEVENT
UID:285@siliconvalleyons.org
DTSTART;TZID=America/Los_Angeles;VALUE=DATE:20230508
DTEND;TZID=America/Los_Angeles;VALUE=DATE:20230510
DTSTAMP:20230418T152703Z
URL:https://www.siliconvalleyons.org/events/ons-california-advocacy-summit
 /
SUMMARY:ONS California Advocacy Summit
DESCRIPTION:&nbsp\;\n\nPlease join us for our first statewide chapter gathe
 ring aimed at equipping Oncology nurses with the skills needed to advocate
  for cancer patients at the government level. This is a non-partisan event
  offering mentorship and education regarding health policy and government 
 relations.\n\nLocation:  Sacramento Capitol\n\nMust register by 11:59PM o
 n April 10\, 2023\n\nDownload more information here.
LOCATION:Sacramento Capitol\, 1315 10th Street\, Sacramento\, California\, 
 95814\, United States
GEO:38.576588;-121.493237
X-APPLE-STRUCTURED-LOCATION;VALUE=URI;X-ADDRESS=1315 10th Street\, Sacramen
 to\, California\, 95814\, United States;X-APPLE-RADIUS=100;X-TITLE=Sacrame
 nto Capitol:geo:38.576588,-121.493237
END:VEVENT
BEGIN:VTIMEZONE
TZID:America/Los_Angeles
X-LIC-LOCATION:America/Los_Angeles
BEGIN:DAYLIGHT
DTSTART:20230312T030000
TZOFFSETFROM:-0800
TZOFFSETTO:-0700
TZNAME:PDT
END:DAYLIGHT
END:VTIMEZONE
END:VCALENDAR