BEGIN:VCALENDAR
VERSION:2.0
PRODID:-//wp-events-plugin.com//7.2.3.1//EN
BEGIN:VEVENT
UID:341@siliconvalleyons.org
DTSTART;VALUE=DATE:20250505
DTEND;VALUE=DATE:20250507
DTSTAMP:20250219T002803Z
URL:https://www.siliconvalleyons.org/events/ons-california-advocacy-summit
 -may-5-6/
SUMMARY:ONS California Advocacy Summit - May 5 & 6
DESCRIPTION:ONS California Advocacy Summit 2025\n\nJoin us for this bi-part
 isan 2-day event offering a unique platform for learning about health poli
 cy\, advocacy\, sharing ideas\, networking\, and discussing important issu
 es impacting our statewide cancer community. SPONSORED BY THE ONS CALIFORN
 IA CHAPTERS.\n\nWhen: May 5th &amp\; 6th\n\nWhere: The California Endowmen
 t 1414 K Street Sacramento\, CA 95814\n\nDay 1 - Registration begins at 8:
 30 AM\; event ends at 3:30 PM\nDay 2 - Meetings with Legislators vary\n\nT
 ickets available now! Click here to view the full event flyer!
LOCATION:The California Endowment\, 1414 K Street\, Sacramento\, CA\, 95814
 \, United States
GEO:38.577271;-121.487911
X-APPLE-STRUCTURED-LOCATION;VALUE=URI;X-ADDRESS=1414 K Street\, Sacramento\
 , CA\, 95814\, United States;X-APPLE-RADIUS=100;X-TITLE=The California End
 owment:geo:38.577271,-121.487911
END:VEVENT
END:VCALENDAR