BEGIN:VCALENDAR
VERSION:2.0
PRODID:-//wp-events-plugin.com//7.2.3.1//EN
BEGIN:VEVENT
UID:310@siliconvalleyons.org
DTSTART:20240621T020000Z
DTEND:20240621T020000Z
DTSTAMP:20240528T150949Z
URL:https://www.siliconvalleyons.org/events/ogsiveo-presentation-june-20th
 /
SUMMARY:OGSIVEO Presentation - June 20th
DESCRIPTION:Please join us for a presentation on: OGSIVEOTM (nirogacestat)\
 , the first and only FDA-approved therapy for adult patients with progress
 ing desmoid tumors who require systemic treatment\n\nProgram details:\nThu
 rsday\, June 20\, 2024\n6:00 PM Pacific Daylight Time Presentation\nFogo d
 e Chao\n377 Santana Row #1090\nSan Jose \, CA 95128\n\nPresented by:\nNoah
  Federman\, MD\nMedical Director: Clinical Translational Research Center\;
 \nDirector: Pediatric Bone and Soft Tissue Program\nUCLA Health\nLos Angel
 es\, CA\n\nUse the link below to register for this event\nhttps://www.swtx
 speakerprograms.com/attendee\n\nIf you have questions about the event\, yo
 u can contact your SpringWorks Therapeutics representative\, Mackenzie Bur
 ke at mackenzie.burke@springworkstx.com or +1 925-785-4672. If you have re
 gistration questions\, you can email springworks@bcdme.com\n\nClick here t
 o view the full event flyer
END:VEVENT
END:VCALENDAR