BEGIN:VCALENDAR
VERSION:2.0
PRODID:-//wp-events-plugin.com//7.2.3.1//EN
BEGIN:VEVENT
UID:339@siliconvalleyons.org
DTSTART:20250313T020000Z
DTEND:20250313T020000Z
DTSTAMP:20250203T214616Z
URL:https://www.siliconvalleyons.org/events/nurse-product-summary-deck-mar
 ch-12th/
SUMMARY:Nurse Product Summary Deck - March 12th
DESCRIPTION:You're cordially invited to attend an educational presentation 
 on Nurse Product Summary Deck.\n\nWhen: Wednesday\, March 12\, 2025 at 6:0
 0 PM\n\nPRESENTED BY: Flora Woo\, Redondo Beach\, CA\n\nLOCATION: Fleming
 ’s Prime Steakhouse &amp\; Wine Bar\, 2762 Augustine Drive\, Santa Clara
 \, CA 95054-3014\, (408) 346-4557\n\nPlease RSVP on or before Sunday\, Mar
 ch 09\, 2025 to www.legendbiotechrsvp.com/index/meeting/116\nFor any progr
 am questions\, contact Flora Woo at 310-780-6588 or flora.woo@legendbiotec
 h.com\n\nClick here to view the event flyer for more details.
LOCATION:Fleming’s Prime Steakhouse & Wine Bar\, 2762 Augustine Drive\, S
 anta Clara\, CA 95054-3014\, CA\, 95054\, United States
GEO:37.382036;-121.977259
X-APPLE-STRUCTURED-LOCATION;VALUE=URI;X-ADDRESS=2762 Augustine Drive\, Sant
 a Clara\, CA 95054-3014\, CA\, 95054\, United States;X-APPLE-RADIUS=100;X-
 TITLE=Fleming’s Prime Steakhouse & Wine Bar:geo:37.382036,-121.977259
END:VEVENT
END:VCALENDAR