BEGIN:VCALENDAR
VERSION:2.0
PRODID:-//wp-events-plugin.com//7.2.3.1//EN
BEGIN:VEVENT
UID:65@siliconvalleyons.org
DTSTART:20180127T170000Z
DTEND:20180127T220000Z
DTSTAMP:20180124T005257Z
URL:https://www.siliconvalleyons.org/events/northern-california-blood-canc
 er-conference-2018/
SUMMARY:Northern California Blood Cancer Conference 2018
DESCRIPTION:A Free Educational Conference for Patients\, Caregivers and Hea
 lthcare Professionals*\nJanuary 27\, 2018\nHyatt Regency San Francisco\, S
 an Francisco\, California\nStart: 9:00 AM (PST)\, End: 2:00 PM (PST)\nFor 
 more details and registration go to:\nhttp://www.lls.org/events/northern-c
 alifornia-blood-cancer-conference-2018\n&nbsp\;\n\nThis LLS Blood Cancer C
 onference (BCC) is one of many programs developed to meet the needs of pat
 ients\, families and oncology professionals\, the people who deal with blo
 od cancer every day and the people who care for them. BCC attendees receiv
 e the most current information and access to local resources to help navig
 ate and make informed decisions about their treatment and survivorship.\n\
 n&nbsp\;\n\nPre-registration for this FREE program is required.\n\n*This i
 s NOT a continuing education (CE) program\n\n&nbsp\;
LOCATION:Hyatt Regency San Francisco\,\, Five Embarcadero Center\, San Fran
 cisco\, CA\, 94111\, United States
GEO:37.7942169;-122.39566630000002
X-APPLE-STRUCTURED-LOCATION;VALUE=URI;X-ADDRESS=Five Embarcadero Center\, S
 an Francisco\, CA\, 94111\, United States;X-APPLE-RADIUS=100;X-TITLE=Hyatt
  Regency San Francisco\,:geo:37.7942169,-122.39566630000002
END:VEVENT
END:VCALENDAR