BEGIN:VCALENDAR
VERSION:2.0
PRODID:-//wp-events-plugin.com//7.2.3.1//EN
BEGIN:VEVENT
UID:212@siliconvalleyons.org
DTSTART:20210421T180000Z
DTEND:20210421T190000Z
DTSTAMP:20210415T183617Z
URL:https://www.siliconvalleyons.org/events/new-immunotherapy-for-patients
 -with-multiple-myeloma/
SUMMARY:New Immunotherapy for Patients With Multiple Myeloma
DESCRIPTION:A Bristol Myers Squibb promotional program:\nA new immunotherap
 y for patients with relapsed/refractory multiple myeloma\nPresented by: 
  Joshua Sasine\, M.D. UCLA - Los Angeles\, CA\n&nbsp\;\n\nPlease contact
  Program Registration at pcaton@vectorhealth.net / (866) 991-3694 and prov
 ide your name\, degree\, office address\, phone number\, and email address
 . Upon registration\, you will receive further program details.\n\nFor que
 stions\, please contact your Bristol Myers Squibb representative\, Allen T
 choi at (415) 385-3861.\n\n&nbsp\;\n\n&nbsp\;
END:VEVENT
END:VCALENDAR