BEGIN:VCALENDAR
VERSION:2.0
PRODID:-//wp-events-plugin.com//7.2.3.1//EN
BEGIN:VEVENT
UID:210@siliconvalleyons.org
DTSTART:20210408T160000Z
DTEND:20210408T170000Z
DTSTAMP:20210408T230152Z
URL:https://www.siliconvalleyons.org/events/nerlynx-virtual-program/
SUMMARY:NERLYNX Virtual Program
DESCRIPTION:PRESENTED BY:\n\nANNE WARREN\, RN\, MS\, ANP-BC\, AOCNP\n\nPUMA
  BIOTECHNOLOGY\, INC.\n\nPuma Biotechnology’s Certified Nurse Educator w
 ill help you learn more about:\n\n 	Metastatic HER2+ breast cancer and wha
 t it means\n 	The clinical trial results for NERLYNX plus capecitabine •
  Puma's patient support resources\n 	Tips for talking to your healthcare p
 rovider\n\nVisit www.medpt.com/puma/patientprogram/Events to register for 
 this free program
END:VEVENT
END:VCALENDAR