BEGIN:VCALENDAR
VERSION:2.0
PRODID:-//wp-events-plugin.com//7.2.3.1//EN
BEGIN:VEVENT
UID:59@siliconvalleyons.org
DTSTART:20171025T023000Z
DTEND:20171025T043000Z
DTSTAMP:20171019T175333Z
URL:https://www.siliconvalleyons.org/events/mm-diagnosis-prognosis-clinica
 l-course/
SUMMARY:MM: Diagnosis\, Prognosis\, and Clinical Course
DESCRIPTION:Celgene Corporation cordially invites you to attend a promotio
 nal program:\nMM: Diagnosis\, Prognosis\, and Clinical Course\nSpeaker:\n\
 nJoseph Tuscano\, M.D.\nUC Davis Cancer Center\nSacramento\, CA\n\n&nbsp\;
 \n\nTo register for this program\, please contact Program Registration at
  pcaton@vectorhealth.net or (866) 991-3694 and provide your name\, degree
 \, office address\, phone number and e-mail address.
LOCATION:The Plumed Horse\, 14555 Big Basin Way\, Saratoga\, CA\, 95070\, U
 nited States
GEO:37.2566367;-122.03523840000003
X-APPLE-STRUCTURED-LOCATION;VALUE=URI;X-ADDRESS=14555 Big Basin Way\, Sarat
 oga\, CA\, 95070\, United States;X-APPLE-RADIUS=100;X-TITLE=The Plumed Hor
 se:geo:37.2566367,-122.03523840000003
END:VEVENT
END:VCALENDAR