BEGIN:VCALENDAR
VERSION:2.0
PRODID:-//wp-events-plugin.com//7.2.3.1//EN
BEGIN:VEVENT
UID:299@siliconvalleyons.org
DTSTART:20240412T020000Z
DTEND:20240412T020000Z
DTSTAMP:20240319T151116Z
URL:https://www.siliconvalleyons.org/events/mds-promotional-dinner-program
 -april-11th/
SUMMARY:MDS Promotional Dinner Program - April 11th
DESCRIPTION:You are invited. Please join us for an educational program focu
 sing on: A first-line treatment option for adults with anemia due to lower
 -risk MDS\n\nWhen:\nThursday\, April 11th\n6:00PM - PST\n\nWhere:\nLeft Ba
 nk Santana Row\n377 Santana Row #1100\nSan Jose\, California 95128\n\nFeat
 uring:\nYvonne Bossert\, DNP\, MSN-Ed\, RN\nBristol Myers Squibb\nExec Cli
 nical Nurse Consultant\n\nRSVP:\nTo register\,  please visit https://myat
 tendeeresource.com/BMS/240411-BMS-97257\nOR contact Diana Mendell at diana
 .mendell@bms.com\nor call 1-866-326-7600 during the hours of 8:30 AM to 5:
 00 PM\nET\, Monday–Friday\, and refer to meeting ID 240411-BMS-97257\n\n
 Click here to view the full event flyer
END:VEVENT
END:VCALENDAR