BEGIN:VCALENDAR
VERSION:2.0
PRODID:-//wp-events-plugin.com//7.2.3.1//EN
BEGIN:VEVENT
UID:111@siliconvalleyons.org
DTSTART:20190509T023000Z
DTEND:20190509T040000Z
DTSTAMP:20190502T052050Z
URL:https://www.siliconvalleyons.org/events/managing-lynparza/
SUMMARY:Managing LYNPARZA
DESCRIPTION:Join us for an expert discussion:\nManaging LYNPARZA: Efficacy 
 of LYNPARZA Therapy and Adverse Event Management Strategies\n\nPresented 
 by\nBARBARA CALDWELL\, MSN\, APRN\nNurse Practitioner\nCancer Genetic Coun
 selor\nComprehensive Cancer Centers of Nevada
LOCATION:MacArthur Park\, 27 University Avenue\, Palo Alto\, CA\, 94301\, U
 nited States
GEO:37.4430274;-122.16563539999999
X-APPLE-STRUCTURED-LOCATION;VALUE=URI;X-ADDRESS=27 University Avenue\, Palo
  Alto\, CA\, 94301\, United States;X-APPLE-RADIUS=100;X-TITLE=MacArthur Pa
 rk:geo:37.4430274,-122.16563539999999
END:VEVENT
END:VCALENDAR