BEGIN:VCALENDAR
VERSION:2.0
PRODID:-//wp-events-plugin.com//7.2.3.1//EN
BEGIN:VEVENT
UID:88@siliconvalleyons.org
DTSTART:20180928T020000Z
DTEND:20180928T040000Z
DTSTAMP:20180919T182114Z
URL:https://www.siliconvalleyons.org/events/lynparza-maintenance-therapy-f
 or-recurrent-ovarian-cancer/
SUMMARY:LYNPARZA Maintenance Therapy for Recurrent Ovarian Cancer With or W
 ithout a BRCA Mutation
DESCRIPTION:Offsite Evening Speaker Program\nLYNPARZA Maintenance Therapy f
 or Recurrent Ovarian Cancer With or Without a BRCA Mutation\n\nSpeaker\nDr
 . Dan Veljovich\nGynecological Oncologist\nPacific Gynecology Specialists\
 n&nbsp\;\n\n&nbsp\;\nRSVP to\nCatherine Thomas at\n650-269-4854 or Catheri
 ne.thomas@astrazeneca.com by\n9/24/2018\n&nbsp\;\n\n&nbsp\;\n\n&nbsp\;
LOCATION:Fogo de Chao\, 377 Santana Row\, #1090\, San Jose\, CA\, 95128\, U
 nited States
GEO:37.3199011;-121.94833890000001
X-APPLE-STRUCTURED-LOCATION;VALUE=URI;X-ADDRESS=377 Santana Row\, #1090\, S
 an Jose\, CA\, 95128\, United States;X-APPLE-RADIUS=100;X-TITLE=Fogo de Ch
 ao:geo:37.3199011,-121.94833890000001
END:VEVENT
END:VCALENDAR