BEGIN:VCALENDAR
VERSION:2.0
PRODID:-//wp-events-plugin.com//7.2.3.1//EN
BEGIN:VEVENT
UID:282@siliconvalleyons.org
DTSTART;TZID=America/Los_Angeles:20230330T180000
DTEND;TZID=America/Los_Angeles:20230330T200000
DTSTAMP:20230324T001654Z
URL:https://www.siliconvalleyons.org/events/lilly-invites-you-to-a-dinner-
 presentation-to-learn-more-about-retevmo-selpercatinib/
SUMMARY:Lilly invites you to a dinner presentation to learn more about Rete
 vmo (selpercatinib)
DESCRIPTION:&nbsp\;\n\nSpeaker: Ari Baron. MD\, Ba\nWhen: March 30\, 2023 |
  6p\nWhere: Fleming's Prime Steakhouse | Palo Alto\, Ca\nRSVP by 3/24/2023
 : Caroline Kennedy | mobile: (925) 984-4370 | email:\nKennedy_caroline_m@l
 illy.com\n\n&nbsp\;
LOCATION:Flemings Steak House\, 180 El Camino Real\, Palo Alto\, CA\, 94304
 \, United States
GEO:37.4442875;-122.1710802
X-APPLE-STRUCTURED-LOCATION;VALUE=URI;X-ADDRESS=180 El Camino Real\, Palo A
 lto\, CA\, 94304\, United States;X-APPLE-RADIUS=100;X-TITLE=Flemings Steak
  House:geo:37.4442875,-122.1710802
END:VEVENT
BEGIN:VTIMEZONE
TZID:America/Los_Angeles
X-LIC-LOCATION:America/Los_Angeles
BEGIN:DAYLIGHT
DTSTART:20230312T030000
TZOFFSETFROM:-0800
TZOFFSETTO:-0700
TZNAME:PDT
END:DAYLIGHT
END:VTIMEZONE
END:VCALENDAR