BEGIN:VCALENDAR
VERSION:2.0
PRODID:-//wp-events-plugin.com//7.2.3.1//EN
BEGIN:VEVENT
UID:112@siliconvalleyons.org
DTSTART:20190517T023000Z
DTEND:20190517T040000Z
DTSTAMP:20190502T052945Z
URL:https://www.siliconvalleyons.org/events/lenvima-presentation/
SUMMARY:LENVIMA® Presentation
DESCRIPTION:Dosing and Adverse Reaction Management for LENVIMA®\nThis 
 program will review the management of adverse reactions with dose modifica
 tions\, interruptions\, and discontinuations.\nPresented by\nGabriel Schwa
 rtz\, NP\nNurse Practitioner\nDepartment of GI Medical Oncology\nSan Franc
 isco\, CA\n&nbsp\;\nTo register to attend this program\, enter program cod
 e 60156\nat http://rsvp.esi-speakerprograms.com or call (877) 869-2854
LOCATION:Straits Restaurant\, 333 Santana Row #110\, San Jose\, CA\, United
  States
GEO:37.3220965;-121.94828870000003
X-APPLE-STRUCTURED-LOCATION;VALUE=URI;X-ADDRESS=333 Santana Row #110\, San 
 Jose\, CA\, United States;X-APPLE-RADIUS=100;X-TITLE=Straits Restaurant:ge
 o:37.3220965,-121.94828870000003
END:VEVENT
END:VCALENDAR