BEGIN:VCALENDAR
VERSION:2.0
PRODID:-//wp-events-plugin.com//7.2.3.1//EN
BEGIN:VEVENT
UID:301@siliconvalleyons.org
DTSTART:20240524T013000Z
DTEND:20240524T013000Z
DTSTAMP:20240418T145735Z
URL:https://www.siliconvalleyons.org/events/jazz-pharmaceuticals-dinner-ma
 y-23/
SUMMARY:Jazz Pharmaceuticals Dinner - May 23
DESCRIPTION:On behalf of Jazz Pharmaceuticals\, we cordially invite you to 
 join us for an informative\, expert-led discussion.\n\nFeaturing Faculty P
 resenter:\nJeannine Graves\, OCN\,RN\,MPA\,CNOR\,MSN-Ed\nSutter Medical Ce
 nter\n\nWhere:\nLe Papillon\n410 Saratoga Avenue\nSan Jose\, California 95
 129\n\nWhen:\nThursday\, May 23\, 2024\n5:30 PM Pacific\n\nRSVP:\nKhalid K
 han\, Representative Program Host\n415-209-3398 or khalid.khan@jazzpharma.
 com\n\nTo view to full event flyer\, click here.
END:VEVENT
END:VCALENDAR