BEGIN:VCALENDAR
VERSION:2.0
PRODID:-//wp-events-plugin.com//7.2.3.1//EN
BEGIN:VEVENT
UID:179@siliconvalleyons.org
DTSTART:20201006T180000Z
DTEND:20201006T193000Z
DTSTAMP:20201002T203158Z
URL:https://www.siliconvalleyons.org/events/introducing-trodelvy-a-virtual
 -program/
SUMMARY:Introducing TRODELVY – A Virtual Program
DESCRIPTION:Speaker:\nNitin Rohatgi\, MD\, MBA\nMedical Director\, Breast C
 ancer Program\nSutter Medical Center - Sacramento\nTo Register:\nPharmetho
 dportal.com/immunomedics/register\n800-748-3515 or immunomedics-events@par
 method.com\n&nbsp\;\n\n&nbsp\;
END:VEVENT
END:VCALENDAR