BEGIN:VCALENDAR
VERSION:2.0
PRODID:-//wp-events-plugin.com//7.2.3.1//EN
BEGIN:VEVENT
UID:180@siliconvalleyons.org
DTSTART:20201013T183000Z
DTEND:20201013T193000Z
DTSTAMP:20201007T184823Z
URL:https://www.siliconvalleyons.org/events/intervening-with-jakafi-webcas
 t-event/
SUMMARY:Intervening with Jakafi - Webcast Event
DESCRIPTION:Intervening with Jakafi® (ruxolitinib) at Diagnosis in Patient
 s with Intermediate-or High-Risk Myelofibrosis\nFeatured Speaker:\nLeroy K
 eiser\, MD\nSt. Joseph Health System\nSanta Rosa\, CA\n&nbsp\;\nRegistrati
 on:   https://bit.ly/inc6796\nTo register manually\, please contact your
  Incyte representative\, Carole Yates\, at (415) 518-3889 or cyates@incyte
 .com with the following information: name\, title/degree\, state(s) and st
 ate license number(s)\, affiliation\, address\, phone\, and email.\nClick 
 here for more information.\n&nbsp\;
END:VEVENT
END:VCALENDAR