BEGIN:VCALENDAR
VERSION:2.0
PRODID:-//wp-events-plugin.com//7.2.3.1//EN
BEGIN:VEVENT
UID:182@siliconvalleyons.org
DTSTART:20201013T183000Z
DTEND:20201013T200000Z
DTSTAMP:20201007T190300Z
URL:https://www.siliconvalleyons.org/events/innovative-oral-treatment-opti
 ons-for-patients/
SUMMARY:Innovative Oral Treatment Options for Patients
DESCRIPTION: Innovative Oral Treatment Options for Patients: HR+/HER2- mBC 
 or gBRCA-Mutated\nTriple-Negative and HR+/HER2- mBC - A virtual Event\n&nb
 sp\;\nPresented by:\nANDREW SEIDMAN MD\nAttending Physician\, Breast Medic
 ine Service\nMedical Director\, Bobst International Center\nMemorial Sloan
  Kettering Cancer Center\nProfessor of Medicine\, Weill Cornell Medical Co
 llege\n&nbsp\;\nPlease RSVP to your Pfizer Representative\nDahlia Mann: (3
 10) 422-7978\, dahlia.mann@pfizer.com\nKindly provide your full name\, deg
 ree\, specialty\, address including state\, and email address when registe
 ring so that you can be confirmed. Please also reference Meeting ID# INT-0
 061719\n&nbsp\;\nClick here for more information.
END:VEVENT
END:VCALENDAR