BEGIN:VCALENDAR
VERSION:2.0
PRODID:-//wp-events-plugin.com//7.2.3.1//EN
BEGIN:VEVENT
UID:190@siliconvalleyons.org
DTSTART:20201112T183000Z
DTEND:20201112T200000Z
DTSTAMP:20201110T043325Z
URL:https://www.siliconvalleyons.org/events/informational-program-new-trea
 tment-for-urothelial-carcinoma/
SUMMARY:Informational Program - New Treatment for Patients With Urothelial 
 Carcinoma
DESCRIPTION:Pfizer Cordially Invites You to Attend An Informational Program
 \nBeing Presented Virtually by\nAMIT MEHTA MD\nGU Medical Oncologist\nPrem
 ier Hematology/Oncology\nHospital Affiliation with Duke University\nNow Ap
 proved: A New First-Line Maintenance Treatment for Certain Patients With\n
 Locally Advanced or Metastatic Urothelial Carcinoma (UC)\n&nbsp\;\nRSVP to
 :\nDonna Corsell: (408) 691-0736\, donna.corsell@pfizer.com\nKindly provid
 e your full name\, degree\, specialty\, address including state\, and emai
 l address when registering so that you can be confirmed. Please also refer
 ence Meeting ID# INT-0062270\n\nIf you plan to attend\, kindly make every 
 effort to arrive by the designated start time and to remain through the du
 ration of the program. Please be advised that late arrivals may be prohibi
 ted from participating in the event.
END:VEVENT
END:VCALENDAR