BEGIN:VCALENDAR
VERSION:2.0
PRODID:-//wp-events-plugin.com//7.2.3.1//EN
BEGIN:VEVENT
UID:28@siliconvalleyons.org
DTSTART:20170608T023000Z
DTEND:20170608T043000Z
DTSTAMP:20170607T190623Z
URL:https://www.siliconvalleyons.org/events/improving-cancer-care-oncology
 -navigation-program/
SUMMARY:Improving Cancer Care with an Oncology Navigation Program
DESCRIPTION:Teva Oncology cordially invites you to an expert review on:\nIm
 proving Cancer Care with an Oncology Navigation Program\nGuest speaker:\nR
 honda Hewitt\, MSF\, NP Stanford Hospital\n\n
LOCATION:Le Papillon\, 410 Saratoga Ave.\, San Jose\, California\, 95129\, 
 United States
GEO:37.3197522;-121.9722375
X-APPLE-STRUCTURED-LOCATION;VALUE=URI;X-ADDRESS=410 Saratoga Ave.\, San Jos
 e\, California\, 95129\, United States;X-APPLE-RADIUS=100;X-TITLE=Le Papil
 lon:geo:37.3197522,-121.9722375
END:VEVENT
END:VCALENDAR