BEGIN:VCALENDAR
VERSION:2.0
PRODID:-//wp-events-plugin.com//7.2.3.1//EN
BEGIN:VEVENT
UID:30@siliconvalleyons.org
DTSTART:20170621T023000Z
DTEND:20170621T043000Z
DTSTAMP:20170607T191622Z
URL:https://www.siliconvalleyons.org/events/immune-thrombocytopenia/
SUMMARY:Immune Thrombocytopenia
DESCRIPTION:You are cordially invited to attend an educational speaker prog
 ram:\nImmune Thrombocytopenia: Symptoms\, Etiology\, and the Importance of
  Treatment in Adults and Children (T-TCT-1155774)\n\nFaculty\nCarol Viele\
 , RN\, MS\, OCN\, CNS\nAssociate Clinical Professor\, Clinical Nurse Speci
 alist\nDepartment of Physiological Nursing\; University of California San 
 Fransisco School of Nursing
LOCATION:Fogo de Chao\, 377 Santana Row\, #1090\, San Jose\, CA\, 95128\, U
 nited States
GEO:37.3199011;-121.94833890000001
X-APPLE-STRUCTURED-LOCATION;VALUE=URI;X-ADDRESS=377 Santana Row\, #1090\, S
 an Jose\, CA\, 95128\, United States;X-APPLE-RADIUS=100;X-TITLE=Fogo de Ch
 ao:geo:37.3199011,-121.94833890000001
END:VEVENT
END:VCALENDAR