BEGIN:VCALENDAR
VERSION:2.0
PRODID:-//wp-events-plugin.com//7.2.3.1//EN
BEGIN:VEVENT
UID:298@siliconvalleyons.org
DTSTART:20240509T020000Z
DTEND:20240509T020000Z
DTSTAMP:20240314T145257Z
URL:https://www.siliconvalleyons.org/events/highlight-hlh-presentation-may
 -8th/
SUMMARY:Highlight HLH Presentation - May 8th
DESCRIPTION:\n\nYou’re invited to a special presentation: Highlight HLH: 
 There is no time to wait.\n\nIn the case of hemophagocytic lymphohistiocyt
 osis (HLH)\, timely diagnosis and management can be challenging—but are 
 crucial.1 We welcome you to join Sobi and other healthcare professionals f
 or an in-person presentation as we highlight the clinical features and dia
 gnostic challenges of this disease.\n\nFeatured Specialist:\nFaisal Razzaq
 i\, MD\nValley Children's Healthcare\nMadera\, CA\n\nTime:\n6:00 PM PT\n\n
 Date:\nWednesday\, May 8\, 2024\n\nLocation:\nMaggiano's Little Italy\n377
  Santana Row\nSan Jose\, CA 95128\n\nIf you’d like to learn more about t
 his presentation\, please contact Ophella Chiu at Ophelia.Chiu@sobi.com.\n
 \nClick here to view the full event flyer
END:VEVENT
END:VCALENDAR