BEGIN:VCALENDAR
VERSION:2.0
PRODID:-//wp-events-plugin.com//7.2.3.1//EN
BEGIN:VEVENT
UID:253@siliconvalleyons.org
DTSTART:20220224T183000Z
DTEND:20220224T200000Z
DTSTAMP:20220216T191533Z
URL:https://www.siliconvalleyons.org/events/hcp-empaveli-branded-p2p-speak
 er-presentation/
SUMMARY:HCP EMPAVELI Branded P2P Speaker Presentation
DESCRIPTION:EMPAVELI™ (pegcetacoplan) is indicated for the treatment of a
 dult patients with paroxysmal nocturnal hemoglobinuria (PNH).\nSpeaker(s):
  Jorge Leguizamo\, MD\, FACP\nRegister here.
LOCATION:Fleming's Prime Steakhouse and Wine Bar\, 180 El Camino Real\, Pal
 o Alto\, CA\, 94304\, United States
GEO:37.4442891;-122.17107920000001
X-APPLE-STRUCTURED-LOCATION;VALUE=URI;X-ADDRESS=180 El Camino Real\, Palo A
 lto\, CA\, 94304\, United States;X-APPLE-RADIUS=100;X-TITLE=Fleming's Prim
 e Steakhouse and Wine Bar:geo:37.4442891,-122.17107920000001
END:VEVENT
END:VCALENDAR