BEGIN:VCALENDAR
VERSION:2.0
PRODID:-//wp-events-plugin.com//7.2.3.1//EN
BEGIN:VEVENT
UID:311@siliconvalleyons.org
DTSTART:20240613T020000Z
DTEND:20240613T020000Z
DTSTAMP:20240528T151612Z
URL:https://www.siliconvalleyons.org/events/hcc-presentation-june-12th/
SUMMARY:HCC Presentation - June 12th
DESCRIPTION:EISAI Inc. invites you to attend the following 60 minute presen
 tation titled\nA First-Line Treatment Option for Patients With Unresectabl
 e Hepatocellular Carcinoma (HCC)\n\nPresented by:\nSaeed Sadeghi\, MD\nCli
 nical Professor of Medicine\nDivision of Hematology and Oncology\nDavid Ge
 ffen School of Medicine\,\nUniversity of California\, Los Angeles\nLos Ang
 eles\, CA\n\nWhen:\nWednesday\, June 12\, 2024 6:00 PM PT\n\nWhere:\nThe S
 ea by Alexander’s Steakhouse\n4269 W El Camino Real\nPalo Alto\, CA 9430
 6\n\nTo register to attend this program in person\, enter program code 612
 13 at http://rsvp.esi-speakerprograms.com\nYou may also contact your Eisai
  Sales Specialist Rick Guevara by calling (209) 968-5146 if you are intere
 sted in attending.\n\nAppropriate attendees for this educational event may
  include:\n· For dinner-venue programs: physician (MD/DO)\, physician ass
 istant\, nurse practitioner\, registered nurse\, pharmacist\, resident\, m
 edical assistant\, licensed practical nurse\n· For in-office programs: ph
 ysician (MD/DO)\, physician assistant\, nurse practitioner\, registered nu
 rse\, pharmacist\, resident\, medical assistant\, licensed practical nurse
 \, social worker\, prior-authorization lead\, medical student\, practice m
 anager\, pharmacy technician\n\nClick here to view the full event flyer\nC
 lick here to view the prescribing information 
END:VEVENT
END:VCALENDAR