BEGIN:VCALENDAR
VERSION:2.0
PRODID:-//wp-events-plugin.com//7.2.3.1//EN
BEGIN:VEVENT
UID:76@siliconvalleyons.org
DTSTART:20180614T023000Z
DTEND:20180614T043000Z
DTSTAMP:20180601T174735Z
URL:https://www.siliconvalleyons.org/events/guiding-multiple-myeloma-patie
 nts-on-their-treatment-journey/
SUMMARY:Guiding Multiple Myeloma Patients on their Treatment Journey
DESCRIPTION:Presented by\nRhonda L. Hewitt\, MSN\, RN\, ANP\, AOCNP\nNurse 
 Practitioner\nStanford Health Care\n&nbsp\;\nRSVP via e-mail to takedarsvp
 @theselvagroup.com or fax to (800) 660-8857 before 06/11/2018.
LOCATION:Fogo de Chao\, 377 Santana Row\, #1090\, San Jose\, CA\, 95128\, U
 nited States
GEO:37.3199011;-121.94833890000001
X-APPLE-STRUCTURED-LOCATION;VALUE=URI;X-ADDRESS=377 Santana Row\, #1090\, S
 an Jose\, CA\, 95128\, United States;X-APPLE-RADIUS=100;X-TITLE=Fogo de Ch
 ao:geo:37.3199011,-121.94833890000001
END:VEVENT
END:VCALENDAR