BEGIN:VCALENDAR
VERSION:2.0
PRODID:-//wp-events-plugin.com//7.2.3.1//EN
BEGIN:VEVENT
UID:295@siliconvalleyons.org
DTSTART:20240328T023000Z
DTEND:20240328T023000Z
DTSTAMP:20240307T181050Z
URL:https://www.siliconvalleyons.org/events/fruzaqla-fruquintinib-dinner-p
 rogram-march-27/
SUMMARY:FRUZAQLA (fruquintinib) Dinner Program- March 27
DESCRIPTION:About:\nThe program will discuss Introducing the First and Only
  Novel Targeted Therapy Approved in mCRC\, Regardless of Mutation Status\,
  in More Than a Decade.\n\nPresented by:\nFarshid Dayanni\, MD\, PhD\, Pro
 fessor of Clinical Medicine\nUniversity of California\, Irvine\n\nWhen:\nW
 ednesday\, March 27 at 6:30pm\n\nWhere:\nFleming’s Prime Steakhouse\, 18
 0 El Camino Real Ste. 2 Palo Alto\, CA
END:VEVENT
END:VCALENDAR