BEGIN:VCALENDAR
VERSION:2.0
PRODID:-//wp-events-plugin.com//7.2.3.1//EN
BEGIN:VEVENT
UID:58@siliconvalleyons.org
DTSTART:20171025T023000Z
DTEND:20171025T043000Z
DTSTAMP:20171014T185853Z
URL:https://www.siliconvalleyons.org/events/expanded-indication-first-clas
 s-oral-therapy-treatment-metastatic-breast-cancer/
SUMMARY:Expanded Indication for a First-in-Class Oral Therapy for the Treat
 ment of Metastatic Breast Cancer
DESCRIPTION:An Informational Program\nFeaturing\nLINDA BUCK\, NP\n\nExpande
 d Indication for a First-in-Class Oral Therapy for the Treatment of a Bro
 ad Range of Women With HR+/HER2- Metastatic Breast Cancer\n&nbsp\;\n\nRegi
 stration:\nhttp://pfizerengagementportal.force.com/Invitation/ahm__CCRegis
 trationHome?uc=YTEyMzYwMDAwMEFnTTAwQUFG
LOCATION:Fogo de Chao\, 377 Santana Row\, #1090\, San Jose\, CA\, 95128\, U
 nited States
GEO:37.3199011;-121.94833890000001
X-APPLE-STRUCTURED-LOCATION;VALUE=URI;X-ADDRESS=377 Santana Row\, #1090\, S
 an Jose\, CA\, 95128\, United States;X-APPLE-RADIUS=100;X-TITLE=Fogo de Ch
 ao:geo:37.3199011,-121.94833890000001
END:VEVENT
END:VCALENDAR