BEGIN:VCALENDAR
VERSION:2.0
PRODID:-//wp-events-plugin.com//7.2.3.1//EN
BEGIN:VEVENT
UID:304@siliconvalleyons.org
DTSTART:20240517T020000Z
DTEND:20240517T020000Z
DTSTAMP:20240423T151545Z
URL:https://www.siliconvalleyons.org/events/establishing-a-new-standard-of
 -care-may-16/
SUMMARY:Establishing a New Standard of Care - May 16
DESCRIPTION:You're invited to attend the upcoming program about Establishin
 g a New Standard of Care\nA review of PADCEV + pembrolizumab data from the
  EV-302 trial\n\nPresented by:\nAditi Choudhry\, MD\nMedical Oncologist an
 d Hematologist\nJohn Muir Health Cancer Medical Group\nPleasant Hill\, CA\
 n\nThis event will take place on:\nThursday\, May 16\, 2024\n6:00 PM Pacif
 ic\nFogo de Chao\n377 Santana Row Suite 1090\nSan Jose\, CA\n\nTo RSVP\, p
 lease contact:\nKelly McCord\, kmccord@seagen.com\, (510) 399-3949\nCheryl
  Walsh\, Cheryl.Walsh@Astellas.com\, (408) 209-4338\n\nClick here to view 
 the full event flyer
END:VEVENT
END:VCALENDAR