BEGIN:VCALENDAR
VERSION:2.0
PRODID:-//wp-events-plugin.com//7.2.3.1//EN
BEGIN:VEVENT
UID:184@siliconvalleyons.org
DTSTART:20201013T090000Z
DTEND:20201013T100000Z
DTSTAMP:20201012T181905Z
URL:https://www.siliconvalleyons.org/events/erleada/
SUMMARY:ERLEADA
DESCRIPTION:ERLEADA®: Titan &amp\; New Data for Spartan Final Analysis\nA 
 Web Event  - 3 sessions on 10/13: 9am\, 10:15am\, 12:15pm PT\nRegister he
 re:  https://www.webcasteventregistration.com/FINALANALYSIS\n&nbsp\;\nCli
 ck here for more information.\n&nbsp\;\n\n&nbsp\;
END:VEVENT
END:VCALENDAR