BEGIN:VCALENDAR
VERSION:2.0
PRODID:-//wp-events-plugin.com//7.2.3.1//EN
BEGIN:VEVENT
UID:185@siliconvalleyons.org
DTSTART:20201014T141500Z
DTEND:20201014T151500Z
DTSTAMP:20201012T182141Z
URL:https://www.siliconvalleyons.org/events/erleada-2/
SUMMARY:ERLEADA
DESCRIPTION:ERLEADA®: Titan &amp\; New Data for Spartan Final Analysis\nA 
 Web Event  - 2 sessions on 10/14: 2:15pm\, 5:15pm PT\nRegister here:  ht
 tps://www.webcasteventregistration.com/FINALANALYSIS\n&nbsp\;\nClick here 
 for more information.\n&nbsp\;\n\n&nbsp\;
END:VEVENT
END:VCALENDAR