BEGIN:VCALENDAR
VERSION:2.0
PRODID:-//wp-events-plugin.com//7.2.3.1//EN
BEGIN:VEVENT
UID:297@siliconvalleyons.org
DTSTART:20240411T023000Z
DTEND:20240411T040000Z
DTSTAMP:20240314T144337Z
URL:https://www.siliconvalleyons.org/events/enhertu-discussion-april-10th/
SUMMARY:ENHERTU Discussion - April 10th
DESCRIPTION:\n\nOn behalf of Daiichi Sankyo\, Inc. and AstraZeneca\, we cor
 dially invite you to join us for an informative\, expert-led discussion ex
 ploring the clinical\nsignificance of HER2 expression in eligible patients
  with mBC.\n\nDate:\nApril 10\, 2024\n06:30 PM - 08:00 PM\nPacific Standar
 d Time\n\nSpeaker:\nLee Schwartzberg\nChief\, Medical Oncology and Hematol
 ogy and Clinical Professor\nRenown Institute for Cancer\, University of Ne
 vada\, Reno\n\nLocation:\nBe Steak A\n1887 South Bascom Avenue\nCampbell\,
  CA 95008\n\nRSVP:\nJoyce Lew\n(415) 9878862\nBy: 4/3/2024\n\nClick here t
 o view the full flyer
END:VEVENT
END:VCALENDAR